BEGIN:VCALENDAR
VERSION:2.0
PRODID:-//PYPO Production - ECPv6.15.20//NONSGML v1.0//EN
CALSCALE:GREGORIAN
METHOD:PUBLISH
X-ORIGINAL-URL:https://pypoproduction.com
X-WR-CALDESC:Évènements pour PYPO Production
REFRESH-INTERVAL;VALUE=DURATION:PT1H
X-Robots-Tag:noindex
X-PUBLISHED-TTL:PT1H
BEGIN:VTIMEZONE
TZID:Europe/Paris
BEGIN:DAYLIGHT
TZOFFSETFROM:+0100
TZOFFSETTO:+0200
TZNAME:CEST
DTSTART:20250330T010000
END:DAYLIGHT
BEGIN:STANDARD
TZOFFSETFROM:+0200
TZOFFSETTO:+0100
TZNAME:CET
DTSTART:20251026T010000
END:STANDARD
BEGIN:DAYLIGHT
TZOFFSETFROM:+0100
TZOFFSETTO:+0200
TZNAME:CEST
DTSTART:20260329T010000
END:DAYLIGHT
BEGIN:STANDARD
TZOFFSETFROM:+0200
TZOFFSETTO:+0100
TZNAME:CET
DTSTART:20261025T010000
END:STANDARD
BEGIN:DAYLIGHT
TZOFFSETFROM:+0100
TZOFFSETTO:+0200
TZNAME:CEST
DTSTART:20270328T010000
END:DAYLIGHT
BEGIN:STANDARD
TZOFFSETFROM:+0200
TZOFFSETTO:+0100
TZNAME:CET
DTSTART:20271031T010000
END:STANDARD
END:VTIMEZONE
BEGIN:VEVENT
DTSTART;TZID=Europe/Paris:20260530T210000
DTEND;TZID=Europe/Paris:20260530T223000
DTSTAMP:20260421T111218
CREATED:20260413T134734Z
LAST-MODIFIED:20260413T134734Z
UID:9053-1780174800-1780180200@pypoproduction.com
SUMMARY:Balaphonics instrumental - Le Mans (72) Fête interculturelle
DESCRIPTION:
URL:https://pypoproduction.com/evenement/balaphonics-instrumental-le-mans-72-fete-interculturelle/
LOCATION:Plaine des Ronceray 72100 Le Mans\, Plaine des Ronceray\, Le Mans\, 72100\, France
CATEGORIES:Balaphonics & Mary May
END:VEVENT
BEGIN:VEVENT
DTSTART;VALUE=DATE:20260531
DTEND;VALUE=DATE:20260601
DTSTAMP:20260421T111218
CREATED:20260107T081831Z
LAST-MODIFIED:20260107T081831Z
UID:8880-1780185600-1780271999@pypoproduction.com
SUMMARY:Balaphonics instrumental - Gretz (77) Festival Jazz and co
DESCRIPTION:
URL:https://pypoproduction.com/evenement/balaphonics-instrumental-gretz-77-festival-jazz-and-co/
CATEGORIES:Balaphonics & Mary May
END:VEVENT
END:VCALENDAR