BEGIN:VCALENDAR
VERSION:2.0
PRODID:-//PYPO Production - ECPv6.15.20//NONSGML v1.0//EN
CALSCALE:GREGORIAN
METHOD:PUBLISH
X-ORIGINAL-URL:https://pypoproduction.com
X-WR-CALDESC:Évènements pour PYPO Production
REFRESH-INTERVAL;VALUE=DURATION:PT1H
X-Robots-Tag:noindex
X-PUBLISHED-TTL:PT1H
BEGIN:VTIMEZONE
TZID:Europe/Paris
BEGIN:DAYLIGHT
TZOFFSETFROM:+0100
TZOFFSETTO:+0200
TZNAME:CEST
DTSTART:20240331T010000
END:DAYLIGHT
BEGIN:STANDARD
TZOFFSETFROM:+0200
TZOFFSETTO:+0100
TZNAME:CET
DTSTART:20241027T010000
END:STANDARD
BEGIN:DAYLIGHT
TZOFFSETFROM:+0100
TZOFFSETTO:+0200
TZNAME:CEST
DTSTART:20250330T010000
END:DAYLIGHT
BEGIN:STANDARD
TZOFFSETFROM:+0200
TZOFFSETTO:+0100
TZNAME:CET
DTSTART:20251026T010000
END:STANDARD
BEGIN:DAYLIGHT
TZOFFSETFROM:+0100
TZOFFSETTO:+0200
TZNAME:CEST
DTSTART:20260329T010000
END:DAYLIGHT
BEGIN:STANDARD
TZOFFSETFROM:+0200
TZOFFSETTO:+0100
TZNAME:CET
DTSTART:20261025T010000
END:STANDARD
END:VTIMEZONE
BEGIN:VEVENT
DTSTART;VALUE=DATE:20250726
DTEND;VALUE=DATE:20250727
DTSTAMP:20260421T233850
CREATED:20250115T112632Z
LAST-MODIFIED:20250521T104045Z
UID:8080-1753488000-1753574399@pypoproduction.com
SUMMARY:Balaphonics & Mary May - Abriès (05) - Musi'Queyras
DESCRIPTION:
URL:https://pypoproduction.com/evenement/balaphonics-guest-abries-05-musiqueyras/
LOCATION:Abriès\, Abriès-Ristolas\, 05460\, France
CATEGORIES:Balaphonics & Mary May
ATTACH;FMTTYPE=image/jpeg:https://pypoproduction.com/wp-content/uploads/2024/10/Balaphonics-Mary-May-par-Michael-Demetriades_01.jpg
END:VEVENT
END:VCALENDAR